BEGIN:VCALENDAR
VERSION:2.0
PRODID:-//Squarespace Inc/Squarespace 6//v6//EN
BEGIN:VEVENT
UID:5fcef1c53fa051062b3b05e5@squarespace.com
DTSTAMP:20201230T040550Z
DTSTART:20201231T080000Z
DTEND:20201231T140000Z
SUMMARY:NYE 2020
GEO:-34.303148;150.90984
LOCATION:Panorama House\, 811 Princes Highway\, Maddens Plains\, NSW\, 2508
 \, Australia
END:VEVENT
END:VCALENDAR
