BEGIN:VCALENDAR
VERSION:2.0
PRODID:-//Squarespace Inc/Squarespace 6//v6//EN
BEGIN:VEVENT
UID:5db7aac671005f1c8c943baf@squarespace.com
DTSTAMP:20191216T045829Z
DTSTART:20191231T080000Z
DTEND:20191231T130000Z
SUMMARY:New Year's Eve Salsa Night at Panorma house
END:VEVENT
END:VCALENDAR
