BEGIN:VCALENDAR
VERSION:2.0
PRODID:-//Squarespace Inc/Squarespace 6//v6//EN
BEGIN:VEVENT
UID:5aeff2586d2a731f67aa326f@squarespace.com
DTSTAMP:20180507T064141Z
DTSTART:20180513T163000Z
DTEND:20180513T183000Z
SUMMARY:Mothers Day Lunch
END:VEVENT
END:VCALENDAR
