BEGIN:VCALENDAR
VERSION:2.0
PRODID:-//Squarespace Inc/Squarespace 6//v6//EN
BEGIN:VEVENT
UID:5b18dfc370a6ad1603e89f1b@squarespace.com
DTSTAMP:20191216T003747Z
DTSTART:20191225T010000Z
DTEND:20191225T050000Z
SUMMARY:Christmas at Panorama House
END:VEVENT
END:VCALENDAR
