BEGIN:VCALENDAR
VERSION:2.0
PRODID:-//Squarespace Inc/Squarespace 6//v6//EN
BEGIN:VEVENT
UID:5bf4b8bab8a045cbe4cdd35b@squarespace.com
DTSTAMP:20190205T224136Z
DTSTART:20190214T060000Z
DTEND:20190214T113000Z
SUMMARY:Valentines Dinner Panorama House
END:VEVENT
END:VCALENDAR
