BEGIN:VCALENDAR
VERSION:2.0
PRODID:-//Squarespace Inc/Squarespace 6//v6//EN
BEGIN:VEVENT
UID:5e4611619ea1a75b83d7f50f@squarespace.com
DTSTAMP:20200214T033359Z
DTSTART:20200229T080000Z
DTEND:20200229T120000Z
SUMMARY:Love In the Illawarra- Singles night 
END:VEVENT
END:VCALENDAR
